BEGIN:VCALENDAR
VERSION:2.0
PRODID:-//Агентство Литьё++ - ECPv6.11.2.1//NONSGML v1.0//EN
CALSCALE:GREGORIAN
METHOD:PUBLISH
X-ORIGINAL-URL:https://on-v.com.ua
X-WR-CALDESC:Мероприятия для Агентство Литьё++
REFRESH-INTERVAL;VALUE=DURATION:PT1H
X-Robots-Tag:noindex
X-PUBLISHED-TTL:PT1H
BEGIN:VTIMEZONE
TZID:UTC
BEGIN:STANDARD
TZOFFSETFROM:+0000
TZOFFSETTO:+0000
TZNAME:UTC
DTSTART:20150101T000000
END:STANDARD
END:VTIMEZONE
BEGIN:VEVENT
DTSTART;VALUE=DATE:20150310
DTEND;VALUE=DATE:20150315
DTSTAMP:20260424T084932
CREATED:20150104T210520Z
LAST-MODIFIED:20150212T193801Z
UID:5106-1425945600-1426377599@on-v.com.ua
SUMMARY:InterMold Korea 2015
DESCRIPTION:C 10 по 14 марта 2015 г. в Seoul Korea International Exhibition Center (KINTEX) будет проходить 22-я Корейская международная выставка пресс-форм и связанного оборудования InterMold Korea 2015\, где на выставочных площадях — 32\,157㎡ (3 зала) представят свою продукцию  390 экспонентов из 25 стран мира. Периодичность проведения выставки: один раз в два года. \nПараллельно будут проходить выставки с пересекающейся тематикой: 23 Корейское международное шоу пластмассы и резины KOPLAS 2015 и Корейская выставка отопления\, кондиционирования и охлаждения HARFKO 2015. \nInterMold Korea 2015 является идеальным местом для налаживания деловых контактов между производителями литья с разработчиками и изготовителями литейной технологической оснастки\, поставщиками материалов и комплектующих\, разработчиками систем CAD/CAM/CAE\, производителями станков и инструментов. Здесь будут представлены последние разработки\, современные технологии\, новинки металлообрабатывающего\, сварочного\, оборудования\, абразивы\, режущий инструмент\, пресс-формы\, модельные комплекты\, опочная оснастка\, штампы и т.д. \n 
URL:https://on-v.com.ua/meropriyatiya/intermold-korea-2015/
LOCATION:Seoul Korea International Exhibition Center (KINTEX)\, 2600 Daehwa-dong\, Ilsanseo-gu\, Goyang-si\, Gyeonggi-do\, Seoul\, Южная Корея
ATTACH;FMTTYPE=image/jpeg:https://on-v.com.ua/wp-content/uploads/2015/01/InterMold_Korea_2015.jpg
ORGANIZER;CN="Korea Die & Mold Industry Cooperative":MAILTO:koreamold@koreamold.com
END:VEVENT
BEGIN:VEVENT
DTSTART;VALUE=DATE:20150227
DTEND;VALUE=DATE:20150302
DTSTAMP:20260424T084932
CREATED:20150103T153256Z
LAST-MODIFIED:20150212T193646Z
UID:5098-1424995200-1425254399@on-v.com.ua
SUMMARY:IFEX 2015
DESCRIPTION:С 27 февраля по 1 марта 2015 года в выставочном комплексе India Expo Mart & Centre (Большая Нойда\, Индия) будет проходить 11-я Международная выставка литейных технологий\, оборудования материалов и услуг IFEX 2015\, которая проводится одновременно с Индийским Литейным Конгрессом (63rd Indian Foundry Congress) и специализированной экспозицией — 6th Cast India Expo. \nIFEX 2015 является отличной платформой для индийских и зарубежных компаний\, чтобы продемонстрировать свои новейшие\, самые современные технологии и услуги\, предлагаемые в литейном производстве\, привлекая широкие слои производителей\, покупателей\, продавцов\, торговых ассоциаций\, СМИ\, дабы столкнуться с новыми возможностями для бизнеса. \nВ минувшей выставке IFEX 2014 приняли участие 296 экспонентов из 15 стран мира  (231 из Индии и 65 — иностранных компаний)\, которую посетило 6105 специалистов. \nIFEX на протяжении многих лет является самой важной платформой для литейной промышленности индийского субконтинента. \nТематика выставки \n\nСырье\nЛитейные заводы полного цикла\nПлавильные печи и аксессуары\nЛитейные формы и стержни\nПриготовление смесей\nЛитейное оборудование и аксессуары\nМашины литья под давлением и аксессуары\nОборудование для выбивки\, транспортировки и переработки смесей\nОборудование финишных операций\nТермообработка и сушка\nЛитые изделия\nИнструменты\nИзмерение\, тестирование\, контроль процесса\nКонтроль и защита окружающей среды\nВспомогательное оборудование и др.
URL:https://on-v.com.ua/meropriyatiya/ifex-2015/
LOCATION:India Expo Center and Mart\, Greater Noida\, Plot No. 25\,27\,28\,29\, KnowledgePark- II\, Greater Noida\, Индия
ATTACH;FMTTYPE=image/jpeg:https://on-v.com.ua/wp-content/uploads/2015/01/expo_mart.jpg
ORGANIZER;CN="Koelnmesse YA Tradefair Pvt. Ltd.":MAILTO:d.reddy@koelnmesse-india.com
END:VEVENT
BEGIN:VEVENT
DTSTART;VALUE=DATE:20150110
DTEND;VALUE=DATE:20150114
DTSTAMP:20260424T084932
CREATED:20150109T141535Z
LAST-MODIFIED:20150212T193549Z
UID:5139-1420848000-1421193599@on-v.com.ua
SUMMARY:METAL MIDDLE EAST 2015
DESCRIPTION:С 10 по 13 января 2015 г. в Dubai World Trade Centre\, (Дубае\, ОАЭ) будет проходить новая Международная выставка металлургических технологий\, измерительной техники\, литейного оборудования и металлообработки METAL MISSLE EAST 2015\, которая является очень перспективным выставочным мероприятием в связи с быстрым ростом металлопотребления и производства чугуна и стали на Ближнем Востоке. \nMETAL MISSLE EAST позиционирует себя как ведущая международная торговая и контактная площадка отрасли для Ближнего Востока и Объединенных Арабских Эмиратов. Здесь будут представлены посетителям последние инновации в широком поле литейного машиностроения\, металлургии и технологии термической обработки. Совместное сотрудничество Messe Düsseldorf и местного организатора — Al Fajer Information & Services позволило собрать на METAL MISSLE EAST не только известных компаний из Объединенных Арабских Эмиратов и Ближнего Востока\, но и международные корпорации металлургической и литейной промышленности со всего мира. \nТематика выставки\n\nМеталлургической технологии\nТехнологические процессы термической обработки\nЛитейные машины\, оборудование и материалы\nПолуфабрикаты и готовые изделия\nМеталлообработка\, промышленное оборудование и инструменты\n\nОрганизаторы выставки\nMesse Düsseldorf GmbH  \nMesseplatz\n40474 Düsseldorf\nGermany\nPhone: +49/211/45 60-01\nFax: +49/211/45 60-668 \nAl Fajer Information & Services  \nP.O. Box 111 83 United Arab Emirates\nPhone: +971/4/340 68 88\nFax: +871/4/340 36 08 \nMesse Essen GmbH  \nNorbertstraße 45131\nEssen\nGermany\nPhone: +49/201/72 44-0\nFax: +49/201/72 44-248
URL:https://on-v.com.ua/meropriyatiya/metal-middle-east-2015/
LOCATION:Dubai World Trade Centre\, Sheikh Zayed Road\, Дубае\, Объединенные Арабские Эмираты
ATTACH;FMTTYPE=image/jpeg:https://on-v.com.ua/wp-content/uploads/2015/01/Metal_Middle_East_2015.jpg
ORGANIZER;CN="Messe D%C3%BCsseldorf GmbH":MAILTO:info@messe-duesseldorf.de
END:VEVENT
END:VCALENDAR